BEGIN:VCALENDAR
VERSION:2.0
PRODID:-//Clemenspoort - ECPv6.15.18//NONSGML v1.0//EN
CALSCALE:GREGORIAN
METHOD:PUBLISH
X-WR-CALNAME:Clemenspoort
X-ORIGINAL-URL:https://www.clemenspoort.be
X-WR-CALDESC:Evenementen voor Clemenspoort
REFRESH-INTERVAL;VALUE=DURATION:PT1H
X-Robots-Tag:noindex
X-PUBLISHED-TTL:PT1H
BEGIN:VTIMEZONE
TZID:Europe/Brussels
BEGIN:DAYLIGHT
TZOFFSETFROM:+0100
TZOFFSETTO:+0200
TZNAME:CEST
DTSTART:20210328T010000
END:DAYLIGHT
BEGIN:STANDARD
TZOFFSETFROM:+0200
TZOFFSETTO:+0100
TZNAME:CET
DTSTART:20211031T010000
END:STANDARD
BEGIN:DAYLIGHT
TZOFFSETFROM:+0100
TZOFFSETTO:+0200
TZNAME:CEST
DTSTART:20220327T010000
END:DAYLIGHT
BEGIN:STANDARD
TZOFFSETFROM:+0200
TZOFFSETTO:+0100
TZNAME:CET
DTSTART:20221030T010000
END:STANDARD
BEGIN:DAYLIGHT
TZOFFSETFROM:+0100
TZOFFSETTO:+0200
TZNAME:CEST
DTSTART:20230326T010000
END:DAYLIGHT
BEGIN:STANDARD
TZOFFSETFROM:+0200
TZOFFSETTO:+0100
TZNAME:CET
DTSTART:20231029T010000
END:STANDARD
BEGIN:DAYLIGHT
TZOFFSETFROM:+0100
TZOFFSETTO:+0200
TZNAME:CEST
DTSTART:20240331T010000
END:DAYLIGHT
BEGIN:STANDARD
TZOFFSETFROM:+0200
TZOFFSETTO:+0100
TZNAME:CET
DTSTART:20241027T010000
END:STANDARD
END:VTIMEZONE
BEGIN:VEVENT
DTSTART;TZID=Europe/Brussels:20220902T200000
DTEND;TZID=Europe/Brussels:20231005T213000
DTSTAMP:20260419T232401
CREATED:20220623T124626Z
LAST-MODIFIED:20240913T082200Z
UID:10000857-1662148800-1696541400@www.clemenspoort.be
SUMMARY:Worship Alive
DESCRIPTION:Welkom op deze maandelijkse gebedsavond. \nMet liederen die openen op de aanwezigheid van God. \nEr is ook ruimte voor stille aanbidding van Gods aanwezigheid in de uitstelling van het heilig Sacrament. \nEr is vaak een korte spirituele impuls en nadien is er ontmoeting. \nDit initiatief van de gemeenschap Maria-Kefas staat open voor iedereen die God ruimte wil geven in zijn\nof haar leven.
URL:https://www.clemenspoort.be/evenement/worship-alive/2022-09-02/
LOCATION:De Parel\, Overwale 3\, verdieping 0\, Gent\, 9000\, Belgium
CATEGORIES:Gebed - Viering,Vieringen
ATTACH;FMTTYPE=image/png:https://www.clemenspoort.be/wp-content/uploads/2022/06/CAD_CP_Brochures_2022NJ_FotosBrochure_WorshipAlive.png
ORGANIZER;CN="Gemeenschap Maria-Kefas":MAILTO:onthaal@mariakefas.be
GEO:51.0337057;3.7065407
X-APPLE-STRUCTURED-LOCATION;VALUE=URI;X-ADDRESS=De Parel Overwale 3 verdieping 0 Gent 9000 Belgium;X-APPLE-RADIUS=500;X-TITLE=Overwale 3\, verdieping 0:geo:3.7065407,51.0337057
END:VEVENT
BEGIN:VEVENT
DTSTART;TZID=Europe/Brussels:20220925T100000
DTEND;TZID=Europe/Brussels:20220925T113000
DTSTAMP:20260419T232401
CREATED:20220724T210106Z
LAST-MODIFIED:20220724T210106Z
UID:10001668-1664100000-1664105400@www.clemenspoort.be
SUMMARY:Gebedsviering "Ontmoeten"
DESCRIPTION:Deze gebedsdienst staat in het thema van de Clemenspoortfeesten: Ontmoeten.\nWe beginnen met elkaar te onthalen. Als iedereen zichzelf meebrengt\, wordt het een kleurrijke puzzel. \nOm 10.30 uur komen we samen in de Tent van de Ontmoeting (de Parel). We openen ons voor Gods aanwezigheid\, we dompelen ons onder in zijn Woord\, we brengen de wereld binnen in onze gebeden. Aarde en hemel ontmoeten elkaar in de Jezus-gemeenschap. \nDaarna kunnen we elkaar ontmoeten in het onthaal\, of de Clemenspoortfeesten verder zetten met de aperitiefconférence van Koen De Wulf\, gevolgd door een maaltijd.
URL:https://www.clemenspoort.be/evenement/gebedsviering-ontmoeten/
LOCATION:De Parel\, Overwale 3\, verdieping 0\, Gent\, 9000\, Belgium
CATEGORIES:Vieringen
ATTACH;FMTTYPE=image/jpeg:https://www.clemenspoort.be/wp-content/uploads/2022/07/samaritaanse-ontmoeting.jpg
ORGANIZER;CN="Clemenspoort":MAILTO:info@clemenspoort.be
GEO:51.0337057;3.7065407
X-APPLE-STRUCTURED-LOCATION;VALUE=URI;X-ADDRESS=De Parel Overwale 3 verdieping 0 Gent 9000 Belgium;X-APPLE-RADIUS=500;X-TITLE=Overwale 3\, verdieping 0:geo:3.7065407,51.0337057
END:VEVENT
BEGIN:VEVENT
DTSTART;TZID=Europe/Brussels:20220925T113000
DTEND;TZID=Europe/Brussels:20220925T113000
DTSTAMP:20260419T232401
CREATED:20220629T080844Z
LAST-MODIFIED:20220923T172933Z
UID:10001667-1664105400-1664105400@www.clemenspoort.be
SUMMARY:Aperitiefconférence met Koen De Wulf kan NIET doorgaan!
DESCRIPTION:De aperitiefconférence met Koen De Wulf die voorzien was op zondag na de gebedsviering kan niet doorgaan.\nNet zomin als de maaltijd. Je bent wel welkom op de gebedsviering om 10.30u en nadien openen we het Onthaal om na te praten bij een drankje… \nKlik hier voor een overzicht over alle activiteiten tijdens de Clemenspoortfeesten 2022.
URL:https://www.clemenspoort.be/evenement/aperitiefconference-met-koen-de-wulf-en-maaltijd-clemenspoortfeesten-2022/
LOCATION:De Parel\, Overwale 3\, verdieping 0\, Gent\, 9000\, Belgium
CATEGORIES:Cultuur,In de kijker
ATTACH;FMTTYPE=image/jpeg:https://www.clemenspoort.be/wp-content/uploads/2022/06/koen_dewulf.jpg
ORGANIZER;CN="Clemenspoort":MAILTO:info@clemenspoort.be
GEO:51.0337057;3.7065407
X-APPLE-STRUCTURED-LOCATION;VALUE=URI;X-ADDRESS=De Parel Overwale 3 verdieping 0 Gent 9000 Belgium;X-APPLE-RADIUS=500;X-TITLE=Overwale 3\, verdieping 0:geo:3.7065407,51.0337057
END:VEVENT
END:VCALENDAR