BEGIN:VCALENDAR
VERSION:2.0
PRODID:-//Clemenspoort - ECPv6.15.18//NONSGML v1.0//EN
CALSCALE:GREGORIAN
METHOD:PUBLISH
X-ORIGINAL-URL:https://www.clemenspoort.be
X-WR-CALDESC:Evenementen voor Clemenspoort
REFRESH-INTERVAL;VALUE=DURATION:PT1H
X-Robots-Tag:noindex
X-PUBLISHED-TTL:PT1H
BEGIN:VTIMEZONE
TZID:Europe/Brussels
BEGIN:DAYLIGHT
TZOFFSETFROM:+0100
TZOFFSETTO:+0200
TZNAME:CEST
DTSTART:20220327T010000
END:DAYLIGHT
BEGIN:STANDARD
TZOFFSETFROM:+0200
TZOFFSETTO:+0100
TZNAME:CET
DTSTART:20221030T010000
END:STANDARD
BEGIN:DAYLIGHT
TZOFFSETFROM:+0100
TZOFFSETTO:+0200
TZNAME:CEST
DTSTART:20230326T010000
END:DAYLIGHT
BEGIN:STANDARD
TZOFFSETFROM:+0200
TZOFFSETTO:+0100
TZNAME:CET
DTSTART:20231029T010000
END:STANDARD
BEGIN:DAYLIGHT
TZOFFSETFROM:+0100
TZOFFSETTO:+0200
TZNAME:CEST
DTSTART:20240331T010000
END:DAYLIGHT
BEGIN:STANDARD
TZOFFSETFROM:+0200
TZOFFSETTO:+0100
TZNAME:CET
DTSTART:20241027T010000
END:STANDARD
BEGIN:DAYLIGHT
TZOFFSETFROM:+0100
TZOFFSETTO:+0200
TZNAME:CEST
DTSTART:20250330T010000
END:DAYLIGHT
BEGIN:STANDARD
TZOFFSETFROM:+0200
TZOFFSETTO:+0100
TZNAME:CET
DTSTART:20251026T010000
END:STANDARD
END:VTIMEZONE
BEGIN:VEVENT
DTSTART;TZID=Europe/Brussels:20231231T220000
DTEND;TZID=Europe/Brussels:20240101T020000
DTSTAMP:20260422T114937
CREATED:20231209T222017Z
LAST-MODIFIED:20231209T222021Z
UID:10002513-1704060000-1704074400@www.clemenspoort.be
SUMMARY:Biddend het nieuwe jaar in
DESCRIPTION:Dankend terugblikken\, vertrouwvol vooruitblikken\,\nonder de liefdevolle en geduldige blik van Diegene die je draagt\, bemint en met je mee gaat. \nOp oudejaarsavond kan je tussen 22 en 24u voor kortere of langere tijd komen zitten\, bidden\, overwegen\, aanschouwen bij het sacrament van Gods liefde. \nOm middernacht vieren we eucharistie en bidden vertrouwvol voor de hele wereld. \nWelkom.
URL:https://www.clemenspoort.be/evenement/biddend-het-nieuwe-jaar-in/
LOCATION:De Parel\, Overwale 3\, verdieping 0\, Gent\, 9000\, Belgium
CATEGORIES:In de kijker,Vieringen
ATTACH;FMTTYPE=image/png:https://www.clemenspoort.be/wp-content/uploads/2023/12/afbeelding_2023-12-09_230711776.png
ORGANIZER;CN="Gemeenschap Maria-Kefas":MAILTO:onthaal@mariakefas.be
GEO:51.0337057;3.7065407
X-APPLE-STRUCTURED-LOCATION;VALUE=URI;X-ADDRESS=De Parel Overwale 3 verdieping 0 Gent 9000 Belgium;X-APPLE-RADIUS=500;X-TITLE=Overwale 3\, verdieping 0:geo:3.7065407,51.0337057
END:VEVENT
BEGIN:VEVENT
DTSTART;TZID=Europe/Brussels:20240107T113000
DTEND;TZID=Europe/Brussels:20240107T130000
DTSTAMP:20260422T114937
CREATED:20231210T065122Z
LAST-MODIFIED:20231210T065122Z
UID:10002514-1704627000-1704632400@www.clemenspoort.be
SUMMARY:Nieuwjaarsreceptie
DESCRIPTION:Kom je mee klinken op 2024?\nOp zondag 7 januari ben je welkom op de nieuwjaarsreceptie na de zondagsviering van 10.30u. Het ideale moment om elkaar veel geluk te wensen in het nieuwe jaar\, onze goede voornemens te vertellen\, gewoon samen te zijn\,… en het glas te heffen. Wil je er graag bij zijn\, geef dan tijdig je naam op bij info@clemenspoort.be
URL:https://www.clemenspoort.be/evenement/nieuwjaarsreceptie/
LOCATION:Clemenspoort\, Overwale 3\, Gent\, 9000\, Belgium
CATEGORIES:Andere,Vieringen
ATTACH;FMTTYPE=image/jpeg:https://www.clemenspoort.be/wp-content/uploads/2022/12/nieuwjaarsreceptie.jpg
ORGANIZER;CN="Clemenspoort":MAILTO:info@clemenspoort.be
END:VEVENT
BEGIN:VEVENT
DTSTART;TZID=Europe/Brussels:20240111T190000
DTEND;TZID=Europe/Brussels:20240111T213000
DTSTAMP:20260422T114937
CREATED:20231130T224616Z
LAST-MODIFIED:20231130T225134Z
UID:10002504-1704999600-1705008600@www.clemenspoort.be
SUMMARY:Alpha vanuit je zetel thuis
DESCRIPTION:Alpha is een inleiding in het christelijk geloof\, het is een reeks van twaalf avonden. \nDeze Alpha-reeks in de winter gaat via ZOOM. Je kan dus vanuit je vertrouwde thuis meedoen; je hoeft niet door de koude of geen baby-sit te zoeken.\nWe bekijken telkens een stuk film. Op elke samenkomst staat een ander onderwerp centraal.\nTenslotte is er ruimte om je vragen en gedachten te delen in kleine groepen.\nEr zijn twaalf Alpha-bijeenkomsten\, telkens van 20 tot 21.30 uur. \nDiverse mensen doen mee met Alpha omdat ze vrienden willen maken die net als zij met een open blik kunnen lachen en praten over datgene wat zin kan geven in het leven. Velen ontdekken dat Gods liefde verrassend dichtbij is\, wie je ook bent. \nDe Alpha-reeks loopt van donderdag 11 januari tot en met 21 maart 2024.\nDe eerste en laatste avond kan je ook ter plekke meemaken in Clemenspoort (Gent).\nDie avonden in Gent beginnen met een maaltijd om 19 uur en eindigen om 21.30 uur.\nKan je niet naar Gent komen\, dan kan je inloggen om 20u.\nVoel je vrij om te komen uittesten of dit iets voor jou is.\nAls je het ons laat weten\, houden we graag rekening met je dieetvereisten of allergieën. \nDe Alpha-reeks heeft een extra bijeenkomst op zaterdag 24 februari die eveneens doorgaat in Gent. \nDe andere avonden gaan dus door vanuit je zetel thuis. Telkens van 200 tot 21.30u \nOp dinsdag 5 december is er de slotavond van de vorige reeks die voor iedereen open staat en waar je vrijblijvend kennis kunt maken met Alpha. \nGraag je komst laten weten via alpha@clemenspoort.be. Deelname is gratis (maar we geven wel de kans om een vrije bijdrage te betalen voor de keren dat we een maaltijd klaarmaken. \n 
URL:https://www.clemenspoort.be/evenement/alpha-vanuit-je-zetel-thuis/
LOCATION:Clemenspoort\, Overwale 3\, Gent\, 9000\, Belgium
CATEGORIES:Alpha,Vorming
ATTACH;FMTTYPE=image/webp:https://www.clemenspoort.be/wp-content/uploads/2023/11/454da5fc-c35c-4b29-bdf1-0ef5773b7e5f.webp
ORGANIZER;CN="Clemenspoort":MAILTO:info@clemenspoort.be
END:VEVENT
BEGIN:VEVENT
DTSTART;TZID=Europe/Brussels:20240122T143000
DTEND;TZID=Europe/Brussels:20240122T170000
DTSTAMP:20260422T114937
CREATED:20231027T091419Z
LAST-MODIFIED:20231027T091424Z
UID:10002482-1705933800-1705942800@www.clemenspoort.be
SUMMARY:Zin in film: Madres Paralelas
DESCRIPTION:Zin in film:  Madres Paralelas \nMet MADRES PARALELAS komt de Spaanse meester Pedro Almodóvar opnieuw met een fascinerende blik op moeders en moederschap. Na het grote succes van het autobiografische DOLOR Y GLORIA maakt Almodóvar vrouwen weer het middelpunt van zijn werk met prachtige rollen van Penélope Cruz en Milena Smit. \nTwee vrouwen\, Janis (Penélope Cruz) en Ana (Milena Smit)\, bevallen tegelijkertijd in hetzelfde ziekenhuis. Beiden zijn alleenstaand en ongepland zwanger. Janis\, van middelbare leeftijd\, is opgetogen\, maar de jonge Ana is bang en onzeker. De weinige woorden die de vrouwen wisselen\, vormen de basis voor een band die hun levens later een beslissende wending zal geven. Terwijl Janis het verleden van haar familie een gezicht probeert te geven\, vecht Ana juist om los te komen van haar familie. \nMADRES PARALELAS was de openingsfilm op het Filmfestival van Venetië waar Penélope Cruz werd onderscheiden als Beste Actrice. Tevens kreeg de film twee Oscarnominaties: Voor Beste Actrice (Penélope Cruz) en Beste Originele Muziek. In MADRES PARALELAS zien we acteurs als Rossy de Palma en Julieta Serrano terug\, die we goed kennen uit eerder werk van de Spaanse meester Almodóvar.
URL:https://www.clemenspoort.be/evenement/zin-in-film-madres-paralelas-2/
LOCATION:Zaal Neumann\, Overwale 3\, verdieping 2\, Gent\, 9000\, Belgium
CATEGORIES:Cultuur,Vorming
ATTACH;FMTTYPE=image/png:https://www.clemenspoort.be/wp-content/uploads/2023/10/afbeelding_2023-10-27_111258799.png
ORGANIZER;CN="Mia De Meyer":MAILTO:mia.de.meyer7@gmail.com
GEO:50.503887;4.469936
X-APPLE-STRUCTURED-LOCATION;VALUE=URI;X-ADDRESS=Zaal Neumann Overwale 3 verdieping 2 Gent 9000 Belgium;X-APPLE-RADIUS=500;X-TITLE=Overwale 3\, verdieping 2:geo:4.469936,50.503887
END:VEVENT
END:VCALENDAR