BEGIN:VCALENDAR
VERSION:2.0
PRODID:-//Clemenspoort - ECPv6.15.18//NONSGML v1.0//EN
CALSCALE:GREGORIAN
METHOD:PUBLISH
X-ORIGINAL-URL:https://www.clemenspoort.be
X-WR-CALDESC:Evenementen voor Clemenspoort
REFRESH-INTERVAL;VALUE=DURATION:PT1H
X-Robots-Tag:noindex
X-PUBLISHED-TTL:PT1H
BEGIN:VTIMEZONE
TZID:Europe/Brussels
BEGIN:DAYLIGHT
TZOFFSETFROM:+0100
TZOFFSETTO:+0200
TZNAME:CEST
DTSTART:20230326T010000
END:DAYLIGHT
BEGIN:STANDARD
TZOFFSETFROM:+0200
TZOFFSETTO:+0100
TZNAME:CET
DTSTART:20231029T010000
END:STANDARD
BEGIN:DAYLIGHT
TZOFFSETFROM:+0100
TZOFFSETTO:+0200
TZNAME:CEST
DTSTART:20240331T010000
END:DAYLIGHT
BEGIN:STANDARD
TZOFFSETFROM:+0200
TZOFFSETTO:+0100
TZNAME:CET
DTSTART:20241027T010000
END:STANDARD
BEGIN:DAYLIGHT
TZOFFSETFROM:+0100
TZOFFSETTO:+0200
TZNAME:CEST
DTSTART:20250330T010000
END:DAYLIGHT
BEGIN:STANDARD
TZOFFSETFROM:+0200
TZOFFSETTO:+0100
TZNAME:CET
DTSTART:20251026T010000
END:STANDARD
END:VTIMEZONE
BEGIN:VEVENT
DTSTART;TZID=Europe/Brussels:20240501T093000
DTEND;TZID=Europe/Brussels:20240501T170000
DTSTAMP:20260424T134340
CREATED:20240304T213045Z
LAST-MODIFIED:20240411T083741Z
UID:10002573-1714555800-1714582800@www.clemenspoort.be
SUMMARY:Emmanuel Zangdag
DESCRIPTION:  \n\n\nIn verschillende parochies\, gemeenschappen en gebedsgroepen; en ook in Clemenspoort worden vaak liederen van de gemeenschap Emmanuel gezongen. \nDus\, ben je koorleider\, cantor\, zanger\, muzikant\, organist… ?\nOf hou je gewoon heel veel van zingen en liturgie? \nDan ben je welkom op de Emmanuel zangdag\, een samenwerking tussen de Gemeenschap Emmanuel en de Clemenspoort. \n\n\nKeuze uit verschillende workshops: \n\nInoefenen van nieuwe liederen uit ons vierstemmig repertoire\nInoefenen van liederen i.f.v. de eucharistieviering\nUitleg over liturgie\nBidden met muziek\n\nEn we eindigen de dag met een (zelf gezongen) eucharistieviering. \nOnthaal vanaf 9u30. Het programma begint om 10u en eindigt rond 17u. \n\n\n  \n\n\n 
URL:https://www.clemenspoort.be/evenement/emmanuel-zangdag/
LOCATION:Clemenspoort\, Overwale 3\, Gent\, 9000\, Belgium
CATEGORIES:Gebed - Viering,In de kijker,Vieringen,Vorming
ATTACH;FMTTYPE=image/jpeg:https://www.clemenspoort.be/wp-content/uploads/2024/03/emmanuel-zangdag_recto.jpg
ORGANIZER;CN="Clemenspoort":MAILTO:info@clemenspoort.be
END:VEVENT
END:VCALENDAR