BEGIN:VCALENDAR
VERSION:2.0
PRODID:-//Clemenspoort - ECPv6.15.18//NONSGML v1.0//EN
CALSCALE:GREGORIAN
METHOD:PUBLISH
X-WR-CALNAME:Clemenspoort
X-ORIGINAL-URL:https://www.clemenspoort.be
X-WR-CALDESC:Evenementen voor Clemenspoort
REFRESH-INTERVAL;VALUE=DURATION:PT1H
X-Robots-Tag:noindex
X-PUBLISHED-TTL:PT1H
BEGIN:VTIMEZONE
TZID:Europe/Brussels
BEGIN:DAYLIGHT
TZOFFSETFROM:+0100
TZOFFSETTO:+0200
TZNAME:CEST
DTSTART:20230326T010000
END:DAYLIGHT
BEGIN:STANDARD
TZOFFSETFROM:+0200
TZOFFSETTO:+0100
TZNAME:CET
DTSTART:20231029T010000
END:STANDARD
BEGIN:DAYLIGHT
TZOFFSETFROM:+0100
TZOFFSETTO:+0200
TZNAME:CEST
DTSTART:20240331T010000
END:DAYLIGHT
BEGIN:STANDARD
TZOFFSETFROM:+0200
TZOFFSETTO:+0100
TZNAME:CET
DTSTART:20241027T010000
END:STANDARD
BEGIN:DAYLIGHT
TZOFFSETFROM:+0100
TZOFFSETTO:+0200
TZNAME:CEST
DTSTART:20250330T010000
END:DAYLIGHT
BEGIN:STANDARD
TZOFFSETFROM:+0200
TZOFFSETTO:+0100
TZNAME:CET
DTSTART:20251026T010000
END:STANDARD
END:VTIMEZONE
BEGIN:VEVENT
DTSTART;TZID=Europe/Brussels:20240527T200000
DTEND;TZID=Europe/Brussels:20240527T220000
DTSTAMP:20260425T180853
CREATED:20231027T092028Z
LAST-MODIFIED:20231027T092028Z
UID:10002484-1716840000-1716847200@www.clemenspoort.be
SUMMARY:Zin in film: Hit the road
DESCRIPTION:Zin in film:  Hit the road \n\n\n\n\n\n\n\nEen gezin van vier personen rijdt door een schilderachtig\, bergachtig Iraans landschap. Maar al snel wordt duidelijk dat dit geen gewoon familie-uitje is …\n\n\n\n\n\n\n \n\n\n\nDe film volgt een chaotisch\, liefdevol gezin op een roadtrip door een ruig landschap\, maar waarheen? Op de achterbank ligt de vader met een gebroken been\, maar is het echt gebroken? Wanneer de moeder probeert te lachen\, kan ze haar tranen niet altijd bedwingen. Het jongste kind blijft uitbarsten in karaoke\, inclusief wilde dansnummers. Ze maken allemaal ruzie over de zieke hond en werken elkaar op de zenuwen. Zwijgzaam stuurt de oudste zoon dit onstuimige reisgezelschap\, waar hij niet helemaal bij lijkt te horen\, door weidse Iraanse landschappen. \nHet doel van de chaotische familietrip sijpelt door de kieren van dit tedere\, licht absurdistische speelfilmdebuut. Regisseur Panah Panahi (zoon van de gelauwerde filmmaker Jafar Panahi) vermengt allerlei stemmingen en filmstijlen met elkaar\, terwijl hij er bijna achteloos toch een grappig en aangrijpend geheel van weet te maken.
URL:https://www.clemenspoort.be/evenement/zin-in-film-hit-the-road/
LOCATION:Zaal Neumann\, Overwale 3\, verdieping 2\, Gent\, 9000\, Belgium
CATEGORIES:Cultuur,Vorming
ATTACH;FMTTYPE=image/png:https://www.clemenspoort.be/wp-content/uploads/2023/10/afbeelding_2023-10-27_111938807.png
ORGANIZER;CN="Mia De Meyer":MAILTO:mia.de.meyer7@gmail.com
GEO:50.503887;4.469936
X-APPLE-STRUCTURED-LOCATION;VALUE=URI;X-ADDRESS=Zaal Neumann Overwale 3 verdieping 2 Gent 9000 Belgium;X-APPLE-RADIUS=500;X-TITLE=Overwale 3\, verdieping 2:geo:4.469936,50.503887
END:VEVENT
END:VCALENDAR