BEGIN:VCALENDAR
VERSION:2.0
PRODID:-//Clemenspoort - ECPv6.15.18//NONSGML v1.0//EN
CALSCALE:GREGORIAN
METHOD:PUBLISH
X-ORIGINAL-URL:https://www.clemenspoort.be
X-WR-CALDESC:Evenementen voor Clemenspoort
REFRESH-INTERVAL;VALUE=DURATION:PT1H
X-Robots-Tag:noindex
X-PUBLISHED-TTL:PT1H
BEGIN:VTIMEZONE
TZID:Europe/Brussels
BEGIN:DAYLIGHT
TZOFFSETFROM:+0100
TZOFFSETTO:+0200
TZNAME:CEST
DTSTART:20220327T010000
END:DAYLIGHT
BEGIN:STANDARD
TZOFFSETFROM:+0200
TZOFFSETTO:+0100
TZNAME:CET
DTSTART:20221030T010000
END:STANDARD
BEGIN:DAYLIGHT
TZOFFSETFROM:+0100
TZOFFSETTO:+0200
TZNAME:CEST
DTSTART:20230326T010000
END:DAYLIGHT
BEGIN:STANDARD
TZOFFSETFROM:+0200
TZOFFSETTO:+0100
TZNAME:CET
DTSTART:20231029T010000
END:STANDARD
BEGIN:DAYLIGHT
TZOFFSETFROM:+0100
TZOFFSETTO:+0200
TZNAME:CEST
DTSTART:20240331T010000
END:DAYLIGHT
BEGIN:STANDARD
TZOFFSETFROM:+0200
TZOFFSETTO:+0100
TZNAME:CET
DTSTART:20241027T010000
END:STANDARD
END:VTIMEZONE
BEGIN:VEVENT
DTSTART;TZID=Europe/Brussels:20230919T190000
DTEND;TZID=Europe/Brussels:20230919T213000
DTSTAMP:20260423T023545
CREATED:20230331T132017Z
LAST-MODIFIED:20230331T133305Z
UID:10002161-1695150000-1695159000@www.clemenspoort.be
SUMMARY:Alpha
DESCRIPTION:Alpha is een inleiding in het christelijk geloof\, het is een reeks van twaalf avonden. \nEen Alpha-avond begint met een maaltijd. Daarna bekijken we een stuk film. Op elke samenkomst staat een ander onderwerp centraal.\nTenslotte is er ruimte om je vragen en gedachten te delen in kleine groepen.\nEr zijn twaalf Alpha-bijeenkomsten\, telkens van 19 tot 21.30 uur. \nDiverse mensen doen mee met Alpha omdat ze vrienden willen maken die net als zij met een open blik kunnen lachen en praten over datgene wat zin kan geven in het leven.\nVelen ontdekken dat Gods liefde verrassend dichtbij is\, wie je ook bent. \nDe Alpha-reeks loopt van dinsdag 12 september tot en met 5 december.\nElke avond begint met een maaltijd om 19 uur en eindigt om 21.30 uur.\nAls je het ons laat weten\, houden we graag rekening met je dieetvereisten of allergieën. \nDe Alpha-reeks heeft een extra bijeenkomst op zaterdag 21 oktober. \nOp donderdag 27 april is er de slotavond die voor iedereen open staat en waar je vrijblijvend kennis kunt maken met Alpha.
URL:https://www.clemenspoort.be/evenement/alpha-2/2023-09-19/
LOCATION:Clemenspoort\, Overwale 3\, Gent\, 9000\, Belgium
CATEGORIES:Alpha
ATTACH;FMTTYPE=image/jpeg:https://www.clemenspoort.be/wp-content/uploads/2022/06/CAD_CP_Brochures_2022NJ_FotosBrochure_KaternpaginaAlpha-scaled.jpg
ORGANIZER;CN="Clemenspoort":MAILTO:info@clemenspoort.be
END:VEVENT
END:VCALENDAR