BEGIN:VCALENDAR
VERSION:2.0
PRODID:-//Clemenspoort - ECPv6.15.18//NONSGML v1.0//EN
CALSCALE:GREGORIAN
METHOD:PUBLISH
X-WR-CALNAME:Clemenspoort
X-ORIGINAL-URL:https://www.clemenspoort.be
X-WR-CALDESC:Evenementen voor Clemenspoort
REFRESH-INTERVAL;VALUE=DURATION:PT1H
X-Robots-Tag:noindex
X-PUBLISHED-TTL:PT1H
BEGIN:VTIMEZONE
TZID:Europe/Brussels
BEGIN:DAYLIGHT
TZOFFSETFROM:+0100
TZOFFSETTO:+0200
TZNAME:CEST
DTSTART:20230326T010000
END:DAYLIGHT
BEGIN:STANDARD
TZOFFSETFROM:+0200
TZOFFSETTO:+0100
TZNAME:CET
DTSTART:20231029T010000
END:STANDARD
BEGIN:DAYLIGHT
TZOFFSETFROM:+0100
TZOFFSETTO:+0200
TZNAME:CEST
DTSTART:20240331T010000
END:DAYLIGHT
BEGIN:STANDARD
TZOFFSETFROM:+0200
TZOFFSETTO:+0100
TZNAME:CET
DTSTART:20241027T010000
END:STANDARD
BEGIN:DAYLIGHT
TZOFFSETFROM:+0100
TZOFFSETTO:+0200
TZNAME:CEST
DTSTART:20250330T010000
END:DAYLIGHT
BEGIN:STANDARD
TZOFFSETFROM:+0200
TZOFFSETTO:+0100
TZNAME:CET
DTSTART:20251026T010000
END:STANDARD
END:VTIMEZONE
BEGIN:VEVENT
DTSTART;TZID=Europe/Brussels:20240107T113000
DTEND;TZID=Europe/Brussels:20240107T130000
DTSTAMP:20260421T072731
CREATED:20231210T065122Z
LAST-MODIFIED:20231210T065122Z
UID:10002514-1704627000-1704632400@www.clemenspoort.be
SUMMARY:Nieuwjaarsreceptie
DESCRIPTION:Kom je mee klinken op 2024?\nOp zondag 7 januari ben je welkom op de nieuwjaarsreceptie na de zondagsviering van 10.30u. Het ideale moment om elkaar veel geluk te wensen in het nieuwe jaar\, onze goede voornemens te vertellen\, gewoon samen te zijn\,… en het glas te heffen. Wil je er graag bij zijn\, geef dan tijdig je naam op bij info@clemenspoort.be
URL:https://www.clemenspoort.be/evenement/nieuwjaarsreceptie/
LOCATION:Clemenspoort\, Overwale 3\, Gent\, 9000\, Belgium
CATEGORIES:Andere,Vieringen
ATTACH;FMTTYPE=image/jpeg:https://www.clemenspoort.be/wp-content/uploads/2022/12/nieuwjaarsreceptie.jpg
ORGANIZER;CN="Clemenspoort":MAILTO:info@clemenspoort.be
END:VEVENT
END:VCALENDAR