BEGIN:VCALENDAR
VERSION:2.0
PRODID:-//Clemenspoort - ECPv6.15.18//NONSGML v1.0//EN
CALSCALE:GREGORIAN
METHOD:PUBLISH
X-WR-CALNAME:Clemenspoort
X-ORIGINAL-URL:https://www.clemenspoort.be
X-WR-CALDESC:Evenementen voor Clemenspoort
REFRESH-INTERVAL;VALUE=DURATION:PT1H
X-Robots-Tag:noindex
X-PUBLISHED-TTL:PT1H
BEGIN:VTIMEZONE
TZID:Europe/Brussels
BEGIN:DAYLIGHT
TZOFFSETFROM:+0100
TZOFFSETTO:+0200
TZNAME:CEST
DTSTART:20220327T010000
END:DAYLIGHT
BEGIN:STANDARD
TZOFFSETFROM:+0200
TZOFFSETTO:+0100
TZNAME:CET
DTSTART:20221030T010000
END:STANDARD
BEGIN:DAYLIGHT
TZOFFSETFROM:+0100
TZOFFSETTO:+0200
TZNAME:CEST
DTSTART:20230326T010000
END:DAYLIGHT
BEGIN:STANDARD
TZOFFSETFROM:+0200
TZOFFSETTO:+0100
TZNAME:CET
DTSTART:20231029T010000
END:STANDARD
BEGIN:DAYLIGHT
TZOFFSETFROM:+0100
TZOFFSETTO:+0200
TZNAME:CEST
DTSTART:20240331T010000
END:DAYLIGHT
BEGIN:STANDARD
TZOFFSETFROM:+0200
TZOFFSETTO:+0100
TZNAME:CET
DTSTART:20241027T010000
END:STANDARD
END:VTIMEZONE
BEGIN:VEVENT
DTSTART;TZID=Europe/Brussels:20230604T193000
DTEND;TZID=Europe/Brussels:20230604T210000
DTSTAMP:20260423T031424
CREATED:20220624T115807Z
LAST-MODIFIED:20250311T132557Z
UID:10000916-1685907000-1685912400@www.clemenspoort.be
SUMMARY:Repetitie Joy!
DESCRIPTION:Joy! is ontstaan uit een groep vrienden die graag zingen. \nWe houden er van om samen te komen en te genieten van wat muziek met een mens kan doen. We pinnen ons niet vast op een bepaalde muziekstijl\, maar zoeken naar liederen die de ziel raken zodat deze kunnen gebruik worden wanneer we iets te vieren hebben. Zo proeven we de vreugde van het gemeenschap vormen en dat ‘Zingen twee maal bidden’ is. \nWil je er graag bij zijn?\nJe bent meer dan welkom want vrienden die graag zingen\, maken ook graag vrienden.
URL:https://www.clemenspoort.be/evenement/repetitie-joy/2023-06-04/
LOCATION:De Parel\, Overwale 3\, verdieping 0\, Gent\, 9000\, Belgium
CATEGORIES:Cultuur,Koorrepetities
ATTACH;FMTTYPE=image/jpeg:https://www.clemenspoort.be/wp-content/uploads/2022/06/JOY-repetitie-scaled.jpg
ORGANIZER;CN="Ilse Spiloes":MAILTO:ilse@clemenspoort.be
GEO:51.0337057;3.7065407
X-APPLE-STRUCTURED-LOCATION;VALUE=URI;X-ADDRESS=De Parel Overwale 3 verdieping 0 Gent 9000 Belgium;X-APPLE-RADIUS=500;X-TITLE=Overwale 3\, verdieping 0:geo:3.7065407,51.0337057
END:VEVENT
BEGIN:VEVENT
DTSTART;TZID=Europe/Brussels:20230609T193000
DTEND;TZID=Europe/Brussels:20230609T213000
DTSTAMP:20260423T031424
CREATED:20230206T142301Z
LAST-MODIFIED:20230702T195334Z
UID:10001711-1686339000-1686346200@www.clemenspoort.be
SUMMARY:Repetitie Effatakoor
DESCRIPTION:Op 26/05/2023 zingen we het concert Liefde is alles. Hiervoor wordt er al fel gerepeteerd in de Parel. \nKriebelt het bij jou als gillende sopraan of draag je graag je steentje bij in een andere stem? Het Effatakoor zoekt nog zangers! Kom gerust eens langs op één van de repetities.
URL:https://www.clemenspoort.be/evenement/repetitie-effatakoor-3/2023-06-09/
LOCATION:De Parel\, Overwale 3\, verdieping 0\, Gent\, 9000\, Belgium
CATEGORIES:Koorrepetities
ORGANIZER;CN="Jackie Vanobbergen":MAILTO:jacques.vanobbergen@ugent.be
GEO:51.0337057;3.7065407
X-APPLE-STRUCTURED-LOCATION;VALUE=URI;X-ADDRESS=De Parel Overwale 3 verdieping 0 Gent 9000 Belgium;X-APPLE-RADIUS=500;X-TITLE=Overwale 3\, verdieping 0:geo:3.7065407,51.0337057
END:VEVENT
BEGIN:VEVENT
DTSTART;TZID=Europe/Brussels:20230618T193000
DTEND;TZID=Europe/Brussels:20230618T210000
DTSTAMP:20260423T031424
CREATED:20230203T130647Z
LAST-MODIFIED:20230702T194757Z
UID:10000980-1687116600-1687122000@www.clemenspoort.be
SUMMARY:Repetitie Joy!
DESCRIPTION:Joy! is ontstaan uit een groep vrienden die graag zingen. \nWe houden er van om samen te komen en te genieten van wat muziek met een mens kan doen. We pinnen ons niet vast op een bepaalde muziekstijl\, maar zoeken naar liederen die de ziel raken zodat deze kunnen gebruik worden wanneer we iets te vieren hebben. Zo proeven we de vreugde van het gemeenschap vormen en dat ‘Zingen twee maal bidden’ is. \nWil je er graag bij zijn?\nJe bent meer dan welkom want vrienden die graag zingen\, maken ook graag vrienden.
URL:https://www.clemenspoort.be/evenement/repetitie-joy-3/2023-06-18/
LOCATION:De Parel\, Overwale 3\, verdieping 0\, Gent\, 9000\, Belgium
CATEGORIES:Cultuur,Koorrepetities
ATTACH;FMTTYPE=image/jpeg:https://www.clemenspoort.be/wp-content/uploads/2022/06/CAD_CP_Brochures_2022NJ_FotosBrochure_Joy-scaled.jpg
ORGANIZER;CN="Ilse Spiloes":MAILTO:ilse@clemenspoort.be
GEO:51.0337057;3.7065407
X-APPLE-STRUCTURED-LOCATION;VALUE=URI;X-ADDRESS=De Parel Overwale 3 verdieping 0 Gent 9000 Belgium;X-APPLE-RADIUS=500;X-TITLE=Overwale 3\, verdieping 0:geo:3.7065407,51.0337057
END:VEVENT
BEGIN:VEVENT
DTSTART;TZID=Europe/Brussels:20230623T193000
DTEND;TZID=Europe/Brussels:20230623T213000
DTSTAMP:20260423T031424
CREATED:20230206T142301Z
LAST-MODIFIED:20230702T195334Z
UID:10001712-1687548600-1687555800@www.clemenspoort.be
SUMMARY:Repetitie Effatakoor
DESCRIPTION:Op 26/05/2023 zingen we het concert Liefde is alles. Hiervoor wordt er al fel gerepeteerd in de Parel. \nKriebelt het bij jou als gillende sopraan of draag je graag je steentje bij in een andere stem? Het Effatakoor zoekt nog zangers! Kom gerust eens langs op één van de repetities.
URL:https://www.clemenspoort.be/evenement/repetitie-effatakoor-3/2023-06-23/
LOCATION:De Parel\, Overwale 3\, verdieping 0\, Gent\, 9000\, Belgium
CATEGORIES:Koorrepetities
ORGANIZER;CN="Jackie Vanobbergen":MAILTO:jacques.vanobbergen@ugent.be
GEO:51.0337057;3.7065407
X-APPLE-STRUCTURED-LOCATION;VALUE=URI;X-ADDRESS=De Parel Overwale 3 verdieping 0 Gent 9000 Belgium;X-APPLE-RADIUS=500;X-TITLE=Overwale 3\, verdieping 0:geo:3.7065407,51.0337057
END:VEVENT
END:VCALENDAR