BEGIN:VCALENDAR
VERSION:2.0
PRODID:-//Clemenspoort - ECPv6.15.18//NONSGML v1.0//EN
CALSCALE:GREGORIAN
METHOD:PUBLISH
X-WR-CALNAME:Clemenspoort
X-ORIGINAL-URL:https://www.clemenspoort.be
X-WR-CALDESC:Evenementen voor Clemenspoort
REFRESH-INTERVAL;VALUE=DURATION:PT1H
X-Robots-Tag:noindex
X-PUBLISHED-TTL:PT1H
BEGIN:VTIMEZONE
TZID:Europe/Brussels
BEGIN:DAYLIGHT
TZOFFSETFROM:+0100
TZOFFSETTO:+0200
TZNAME:CEST
DTSTART:20220327T010000
END:DAYLIGHT
BEGIN:STANDARD
TZOFFSETFROM:+0200
TZOFFSETTO:+0100
TZNAME:CET
DTSTART:20221030T010000
END:STANDARD
BEGIN:DAYLIGHT
TZOFFSETFROM:+0100
TZOFFSETTO:+0200
TZNAME:CEST
DTSTART:20230326T010000
END:DAYLIGHT
BEGIN:STANDARD
TZOFFSETFROM:+0200
TZOFFSETTO:+0100
TZNAME:CET
DTSTART:20231029T010000
END:STANDARD
BEGIN:DAYLIGHT
TZOFFSETFROM:+0100
TZOFFSETTO:+0200
TZNAME:CEST
DTSTART:20240331T010000
END:DAYLIGHT
BEGIN:STANDARD
TZOFFSETFROM:+0200
TZOFFSETTO:+0100
TZNAME:CET
DTSTART:20241027T010000
END:STANDARD
BEGIN:DAYLIGHT
TZOFFSETFROM:+0100
TZOFFSETTO:+0200
TZNAME:CEST
DTSTART:20250330T010000
END:DAYLIGHT
BEGIN:STANDARD
TZOFFSETFROM:+0200
TZOFFSETTO:+0100
TZNAME:CET
DTSTART:20251026T010000
END:STANDARD
END:VTIMEZONE
BEGIN:VEVENT
DTSTART;VALUE=DATE:20231117
DTEND;VALUE=DATE:20240116
DTSTAMP:20260420T195455
CREATED:20231011T122334Z
LAST-MODIFIED:20231011T122725Z
UID:10002480-1700179200-1705363199@www.clemenspoort.be
SUMMARY:Tentoonstelling
DESCRIPTION:Tentoonstelling van ELKE MATTHIJS\nIHerinneringen… stukjes magie… overpeinzingen… geworteld… gevleugeld…\nElke Matthijs legt gedroomde reizen en ontmoetingen vast in tekeningen\, etsen\, schilderijen en beelden…
URL:https://www.clemenspoort.be/evenement/tentoonstelling-3/
LOCATION:Onthaal\, Overwale 3\, verdieping 0\, Gent\, 9000\, Belgium
CATEGORIES:Cultuur,Tentoonstellingen
ATTACH;FMTTYPE=image/jpeg:https://www.clemenspoort.be/wp-content/uploads/2023/10/image001-1-scaled.jpg
ORGANIZER;CN="Clemenspoort":MAILTO:info@clemenspoort.be
END:VEVENT
BEGIN:VEVENT
DTSTART;TZID=Europe/Brussels:20231203T193000
DTEND;TZID=Europe/Brussels:20231203T210000
DTSTAMP:20260420T195455
CREATED:20220624T115807Z
LAST-MODIFIED:20250311T132557Z
UID:10000922-1701631800-1701637200@www.clemenspoort.be
SUMMARY:Repetitie Joy!
DESCRIPTION:Joy! is ontstaan uit een groep vrienden die graag zingen. \nWe houden er van om samen te komen en te genieten van wat muziek met een mens kan doen. We pinnen ons niet vast op een bepaalde muziekstijl\, maar zoeken naar liederen die de ziel raken zodat deze kunnen gebruik worden wanneer we iets te vieren hebben. Zo proeven we de vreugde van het gemeenschap vormen en dat ‘Zingen twee maal bidden’ is. \nWil je er graag bij zijn?\nJe bent meer dan welkom want vrienden die graag zingen\, maken ook graag vrienden.
URL:https://www.clemenspoort.be/evenement/repetitie-joy/2023-12-03/
LOCATION:De Parel\, Overwale 3\, verdieping 0\, Gent\, 9000\, Belgium
CATEGORIES:Cultuur,Koorrepetities
ATTACH;FMTTYPE=image/jpeg:https://www.clemenspoort.be/wp-content/uploads/2022/06/JOY-repetitie-scaled.jpg
ORGANIZER;CN="Ilse Spiloes":MAILTO:ilse@clemenspoort.be
GEO:51.0337057;3.7065407
X-APPLE-STRUCTURED-LOCATION;VALUE=URI;X-ADDRESS=De Parel Overwale 3 verdieping 0 Gent 9000 Belgium;X-APPLE-RADIUS=500;X-TITLE=Overwale 3\, verdieping 0:geo:3.7065407,51.0337057
END:VEVENT
BEGIN:VEVENT
DTSTART;TZID=Europe/Brussels:20231208T180000
DTEND;TZID=Europe/Brussels:20231208T220000
DTSTAMP:20260420T195455
CREATED:20231109T143704Z
LAST-MODIFIED:20231109T143704Z
UID:10002485-1702058400-1702072800@www.clemenspoort.be
SUMMARY:Kerstspecial ten voordele van Clemensactie
DESCRIPTION:We nodigen jullie graag uit voor een benefiet ten voordele van de herbebossing in de regio van Kimpese. Dit is ter ondersteuning van de bijencultuur voor de ondertussen 50 opgeleide imkers.\nHet Effata-koor brengt je die avond al in kerstsfeer met een repertoire van hun allermooiste kerstliederen. \nOntvangst vanaf 18h15 voor het aperitief.  Om 19h00 kerstconcert. 20h15 Afrikaanse maaltijd die bereid wordt door Congolese dames. \nPraktisch : \nInschrijving : lieve.droogmans@gmail.com \nBijdrage : 20 euro voor aperitief en concert of  30 euro voor aperitief/concert en maaltijd te betalen op rekening van de Clemensactie BE 54 7370 3185 0597 met vermelding van de naam en het aantal deelnemers. Inschrijving is definitief na ontvangst van betaling. \nAdres : Clemenspoort – Overwale 3\, 9000  Gent \nmet de steun van mondiale samenwerking van de provincie Oost-Vlaanderen.
URL:https://www.clemenspoort.be/evenement/kerstspecial-ten-voordele-van-clemensactie/
LOCATION:Clemenspoort\, Overwale 3\, Gent\, 9000\, Belgium
CATEGORIES:Cultuur,Engagement,In de kijker,Optredens
ATTACH;FMTTYPE=image/jpeg:https://www.clemenspoort.be/wp-content/uploads/2023/11/Afbeelding1.jpg
ORGANIZER;CN="Clemensactie":MAILTO:lieve.droogmans@gmail.com
END:VEVENT
BEGIN:VEVENT
DTSTART;TZID=Europe/Brussels:20231213T190000
DTEND;TZID=Europe/Brussels:20231213T210000
DTSTAMP:20260420T195455
CREATED:20220624T135528Z
LAST-MODIFIED:20230926T182001Z
UID:10002464-1702494000-1702501200@www.clemenspoort.be
SUMMARY:Repetitie Redemption
DESCRIPTION:Redemption is het wereldkoor van de Clemenspoort voor iedereen die zin heeft in zingen: ieder die zijn weg zoekt in de samenleving\, die het soms moeilijk heeft\, vluchteling of kansarm\, vooral iedereen die gewoon graag zingt. \nDe liedjes die gezongen worden\, hebben alle kleuren\, maar zijn steeds dragers van een streepje ‘zin’. Het gaat om samen zingen en tegelijk ook iets meer … \nBespeel je een instrument dan ben je ook welkom. \nVoor zij die willen\, is er een eenvoudige broodmaaltijd voorzien bij de start om 18.30 uur.
URL:https://www.clemenspoort.be/evenement/repetitie-redemption/2023-12-13/
LOCATION:Clemenspoort\, Overwale 3\, Gent\, 9000\, Belgium
CATEGORIES:Cultuur,Engagement
ATTACH;FMTTYPE=image/gif:https://www.clemenspoort.be/wp-content/uploads/2022/02/CAD_CP_Brochures_2022VJ_Website_Redemption-k189Rz.tmp_.gif
ORGANIZER;CN="Jackie Vanobbergen":MAILTO:jacques.vanobbergen@ugent.be
END:VEVENT
BEGIN:VEVENT
DTSTART;TZID=Europe/Brussels:20231217T193000
DTEND;TZID=Europe/Brussels:20231217T210000
DTSTAMP:20260420T195455
CREATED:20230814T162458Z
LAST-MODIFIED:20250315T215348Z
UID:10000986-1702841400-1702846800@www.clemenspoort.be
SUMMARY:Repetitie Joy!
DESCRIPTION:Joy! is ontstaan uit een groep vrienden die graag zingen. \nWe houden er van om samen te komen en te genieten van wat muziek met een mens kan doen. We pinnen ons niet vast op een bepaalde muziekstijl\, maar zoeken naar liederen die de ziel raken zodat deze kunnen gebruik worden wanneer we iets te vieren hebben. Zo proeven we de vreugde van het gemeenschap vormen en dat ‘Zingen twee maal bidden’ is. \nWil je er graag bij zijn?\nJe bent meer dan welkom want vrienden die graag zingen\, maken ook graag vrienden.
URL:https://www.clemenspoort.be/evenement/repetitie-joy-3-2/2023-12-17/
LOCATION:De Parel\, Overwale 3\, verdieping 0\, Gent\, 9000\, Belgium
CATEGORIES:Cultuur,Koorrepetities
ATTACH;FMTTYPE=image/jpeg:https://www.clemenspoort.be/wp-content/uploads/2022/06/JOY-repetitie-scaled.jpg
ORGANIZER;CN="Ilse Spiloes":MAILTO:ilse@clemenspoort.be
GEO:51.0337057;3.7065407
X-APPLE-STRUCTURED-LOCATION;VALUE=URI;X-ADDRESS=De Parel Overwale 3 verdieping 0 Gent 9000 Belgium;X-APPLE-RADIUS=500;X-TITLE=Overwale 3\, verdieping 0:geo:3.7065407,51.0337057
END:VEVENT
BEGIN:VEVENT
DTSTART;TZID=Europe/Brussels:20231222T193000
DTEND;TZID=Europe/Brussels:20231222T213000
DTSTAMP:20260420T195455
CREATED:20230702T200851Z
LAST-MODIFIED:20230702T200851Z
UID:10002248-1703273400-1703280600@www.clemenspoort.be
SUMMARY:Repetitie Effatakoor
DESCRIPTION:Het Effatakoor wil een dragend en dienstbaar onderdeel zijn van de Effatagemeenschap\, in het bijzonder voor het liturgisch samenkomen en vieren. Op die manier wil het bijdragen tot de gemeenschapsvorming. Door het muzikaal ondersteunen willen we ons uiten als christenen en elkaar bemoedigen. Wij zoeken naar frisse teksten en muziek die ons doen nadenken\, die ons ontroeren en ook blij maken. Liederen zoeken om te zingen\, of het nu Huub Oosterhuis\, Kris Gelaude\, Carlos Desoete\, gospel of Taizé … is\, het lijkt ons een natuurlijk proces van blijven zoeken naar wat ons kan inspireren op de weg van ons christelijk leven\, een bouwen aan Gods Rijk\, met Christus als referentiepunt. Heel eenvoudig\, niet hoogdravend\, niet zweven\, maar stil zijn\, zingend bidden en in kleine dingen doen wat Christus ons voorhield.
URL:https://www.clemenspoort.be/evenement/repetitie-effatakoor-5/2023-12-22/
LOCATION:De Parel\, Overwale 3\, verdieping 0\, Gent\, 9000\, Belgium
CATEGORIES:Koorrepetities
ORGANIZER;CN="Jackie Vanobbergen":MAILTO:jacques.vanobbergen@ugent.be
GEO:51.0337057;3.7065407
X-APPLE-STRUCTURED-LOCATION;VALUE=URI;X-ADDRESS=De Parel Overwale 3 verdieping 0 Gent 9000 Belgium;X-APPLE-RADIUS=500;X-TITLE=Overwale 3\, verdieping 0:geo:3.7065407,51.0337057
END:VEVENT
BEGIN:VEVENT
DTSTART;TZID=Europe/Brussels:20231227T190000
DTEND;TZID=Europe/Brussels:20231227T210000
DTSTAMP:20260420T195455
CREATED:20220624T135528Z
LAST-MODIFIED:20230926T182001Z
UID:10002465-1703703600-1703710800@www.clemenspoort.be
SUMMARY:Repetitie Redemption
DESCRIPTION:Redemption is het wereldkoor van de Clemenspoort voor iedereen die zin heeft in zingen: ieder die zijn weg zoekt in de samenleving\, die het soms moeilijk heeft\, vluchteling of kansarm\, vooral iedereen die gewoon graag zingt. \nDe liedjes die gezongen worden\, hebben alle kleuren\, maar zijn steeds dragers van een streepje ‘zin’. Het gaat om samen zingen en tegelijk ook iets meer … \nBespeel je een instrument dan ben je ook welkom. \nVoor zij die willen\, is er een eenvoudige broodmaaltijd voorzien bij de start om 18.30 uur.
URL:https://www.clemenspoort.be/evenement/repetitie-redemption/2023-12-27/
LOCATION:Clemenspoort\, Overwale 3\, Gent\, 9000\, Belgium
CATEGORIES:Cultuur,Engagement
ATTACH;FMTTYPE=image/gif:https://www.clemenspoort.be/wp-content/uploads/2022/02/CAD_CP_Brochures_2022VJ_Website_Redemption-k189Rz.tmp_.gif
ORGANIZER;CN="Jackie Vanobbergen":MAILTO:jacques.vanobbergen@ugent.be
END:VEVENT
BEGIN:VEVENT
DTSTART;TZID=Europe/Brussels:20231231T193000
DTEND;TZID=Europe/Brussels:20231231T210000
DTSTAMP:20260420T195455
CREATED:20230203T130647Z
LAST-MODIFIED:20241107T214556Z
UID:10001041-1704051000-1704056400@www.clemenspoort.be
SUMMARY:Repetitie Joy!
DESCRIPTION:Joy! is ontstaan uit een groep vrienden die graag zingen. \nWe houden er van om samen te komen en te genieten van wat muziek met een mens kan doen. We pinnen ons niet vast op een bepaalde muziekstijl\, maar zoeken naar liederen die de ziel raken zodat deze kunnen gebruik worden wanneer we iets te vieren hebben. Zo proeven we de vreugde van het gemeenschap vormen en dat ‘Zingen twee maal bidden’ is. \nWil je er graag bij zijn?\nJe bent meer dan welkom want vrienden die graag zingen\, maken ook graag vrienden.
URL:https://www.clemenspoort.be/evenement/repetitie-joy-2/2023-12-31/
LOCATION:De Parel\, Overwale 3\, verdieping 0\, Gent\, 9000\, Belgium
CATEGORIES:Cultuur,Koorrepetities
ATTACH;FMTTYPE=image/jpeg:https://www.clemenspoort.be/wp-content/uploads/2022/06/JOY-repetitie-scaled.jpg
ORGANIZER;CN="Ilse Spiloes":MAILTO:ilse@clemenspoort.be
GEO:51.0337057;3.7065407
X-APPLE-STRUCTURED-LOCATION;VALUE=URI;X-ADDRESS=De Parel Overwale 3 verdieping 0 Gent 9000 Belgium;X-APPLE-RADIUS=500;X-TITLE=Overwale 3\, verdieping 0:geo:3.7065407,51.0337057
END:VEVENT
END:VCALENDAR