BEGIN:VCALENDAR
VERSION:2.0
PRODID:-//Clemenspoort - ECPv6.15.18//NONSGML v1.0//EN
CALSCALE:GREGORIAN
METHOD:PUBLISH
X-WR-CALNAME:Clemenspoort
X-ORIGINAL-URL:https://www.clemenspoort.be
X-WR-CALDESC:Evenementen voor Clemenspoort
REFRESH-INTERVAL;VALUE=DURATION:PT1H
X-Robots-Tag:noindex
X-PUBLISHED-TTL:PT1H
BEGIN:VTIMEZONE
TZID:Europe/Brussels
BEGIN:DAYLIGHT
TZOFFSETFROM:+0100
TZOFFSETTO:+0200
TZNAME:CEST
DTSTART:20220327T010000
END:DAYLIGHT
BEGIN:STANDARD
TZOFFSETFROM:+0200
TZOFFSETTO:+0100
TZNAME:CET
DTSTART:20221030T010000
END:STANDARD
BEGIN:DAYLIGHT
TZOFFSETFROM:+0100
TZOFFSETTO:+0200
TZNAME:CEST
DTSTART:20230326T010000
END:DAYLIGHT
BEGIN:STANDARD
TZOFFSETFROM:+0200
TZOFFSETTO:+0100
TZNAME:CET
DTSTART:20231029T010000
END:STANDARD
BEGIN:DAYLIGHT
TZOFFSETFROM:+0100
TZOFFSETTO:+0200
TZNAME:CEST
DTSTART:20240331T010000
END:DAYLIGHT
BEGIN:STANDARD
TZOFFSETFROM:+0200
TZOFFSETTO:+0100
TZNAME:CET
DTSTART:20241027T010000
END:STANDARD
END:VTIMEZONE
BEGIN:VEVENT
DTSTART;TZID=Europe/Brussels:20230526T200000
DTEND;TZID=Europe/Brussels:20230526T220000
DTSTAMP:20260426T000041
CREATED:20230427T075720Z
LAST-MODIFIED:20230427T075720Z
UID:10002175-1685131200-1685138400@www.clemenspoort.be
SUMMARY:Effatakoor zingt Liefde in alles
DESCRIPTION:Effatakoor zingt Liefde in alles\nUit liefde voor jezelf\, de ander\, de planeet en het Mysterie \nToegangskaarten aan €15 (1 drankje na het concert inbegrepen) bestellen via mailadres info@effata.be of bij de koorleden of in de Clemenspoort na de Effatavieringen bij Chris Vandewalle. \nWie het concert niet kan bijwonen\, kan ook zijn liefdevol steentje bijdragen met een steunkaart van €10. \nDe opbrengst van het concert gaat naar het Regenboogtraject van Effata. \nVlot bereikbaar met openbaar vervoer ( trein\, tram\, bus) of natuurlijk ook met de fiets. \nParkeergelegenheid (betalend): in de ondergrondse parking van de Clemenspoort (beperkt)\, ingang via Sint-Denijslaan; of in de ondergrondse parking St-Pietersstation op 250m of in de St.- Denijslaan (achterkant) of in de Voskenslaan en zijstraten (voorkant).
URL:https://www.clemenspoort.be/evenement/effatakoor-zingt-liefde-in-alles/
LOCATION:De Parel\, Overwale 3\, verdieping 0\, Gent\, 9000\, Belgium
CATEGORIES:Cultuur,In de kijker,Koorrepetities,Optredens
ATTACH;FMTTYPE=image/png:https://www.clemenspoort.be/wp-content/uploads/2023/04/afbeelding_2023-04-27_095550625.png
ORGANIZER;CN="Effata":MAILTO:info@effata.be
GEO:51.0337057;3.7065407
X-APPLE-STRUCTURED-LOCATION;VALUE=URI;X-ADDRESS=De Parel Overwale 3 verdieping 0 Gent 9000 Belgium;X-APPLE-RADIUS=500;X-TITLE=Overwale 3\, verdieping 0:geo:3.7065407,51.0337057
END:VEVENT
END:VCALENDAR