BEGIN:VCALENDAR
VERSION:2.0
PRODID:-//Clemenspoort - ECPv6.15.18//NONSGML v1.0//EN
CALSCALE:GREGORIAN
METHOD:PUBLISH
X-ORIGINAL-URL:https://www.clemenspoort.be
X-WR-CALDESC:Evenementen voor Clemenspoort
REFRESH-INTERVAL;VALUE=DURATION:PT1H
X-Robots-Tag:noindex
X-PUBLISHED-TTL:PT1H
BEGIN:VTIMEZONE
TZID:Europe/Brussels
BEGIN:DAYLIGHT
TZOFFSETFROM:+0100
TZOFFSETTO:+0200
TZNAME:CEST
DTSTART:20230326T010000
END:DAYLIGHT
BEGIN:STANDARD
TZOFFSETFROM:+0200
TZOFFSETTO:+0100
TZNAME:CET
DTSTART:20231029T010000
END:STANDARD
BEGIN:DAYLIGHT
TZOFFSETFROM:+0100
TZOFFSETTO:+0200
TZNAME:CEST
DTSTART:20240331T010000
END:DAYLIGHT
BEGIN:STANDARD
TZOFFSETFROM:+0200
TZOFFSETTO:+0100
TZNAME:CET
DTSTART:20241027T010000
END:STANDARD
BEGIN:DAYLIGHT
TZOFFSETFROM:+0100
TZOFFSETTO:+0200
TZNAME:CEST
DTSTART:20250330T010000
END:DAYLIGHT
BEGIN:STANDARD
TZOFFSETFROM:+0200
TZOFFSETTO:+0100
TZNAME:CET
DTSTART:20251026T010000
END:STANDARD
END:VTIMEZONE
BEGIN:VEVENT
DTSTART;TZID=Europe/Brussels:20240119T200000
DTEND;TZID=Europe/Brussels:20240119T220000
DTSTAMP:20260421T065806
CREATED:20230926T181035Z
LAST-MODIFIED:20240102T162141Z
UID:10002455-1705694400-1705701600@www.clemenspoort.be
SUMMARY:UITVERKOCHT - Solidariteitskoor Sapukay
DESCRIPTION:Het solidariteitskoor Sapukay zingt een benefietconcert voor de Clemensactie. \nSapukay is een solidariteitskoor uit Merelbeke waarvan de naam verwijst naar een Argentijns begrip dat betekent: ‘Al zingend een boodschap van vrede en vriendschap uitdragen’. \nSapukay bestaat 27 jaar en is uitgegroeid tot een koor met ca. 80 zangers en muzikanten onder leiding van Bruno De Smet en Eva Quintelier. \nIn ‘Sapukay gooit alles op een hoop’ willen we de “wereldwijde” hoop op een betere samenleving uitzingen. Ja\, ook wij vragen ons vandaag de dag soms af op wat we nog kunnen HOPEN. Toch vinden we die HOOP telkens weer terug. Het is een kwestie van blijven geloven\, blijven liefhebben\, blijven vooruitkijken\, blijven HOPEN. Sapukay wil jullie betoveren met onze HOOP is de HOOP. \nWe zingen het uit in onze gekende stijl met op de achtergrond schilderijen van Willem Hoet. \ntickets zijn niet langer meer verkrijgbaar wegens uitverkocht ;-(
URL:https://www.clemenspoort.be/evenement/solidariteitskoor-sapukay/
LOCATION:Clemenspoort\, Overwale 3\, Gent\, 9000\, Belgium
CATEGORIES:Cultuur,Optredens
ATTACH;FMTTYPE=image/png:https://www.clemenspoort.be/wp-content/uploads/2023/09/sapukay-logo.png
ORGANIZER;CN="Clemenspoort":MAILTO:info@clemenspoort.be
END:VEVENT
END:VCALENDAR