BEGIN:VCALENDAR
VERSION:2.0
PRODID:-//Clemenspoort - ECPv6.15.18//NONSGML v1.0//EN
CALSCALE:GREGORIAN
METHOD:PUBLISH
X-WR-CALNAME:Clemenspoort
X-ORIGINAL-URL:https://www.clemenspoort.be
X-WR-CALDESC:Evenementen voor Clemenspoort
REFRESH-INTERVAL;VALUE=DURATION:PT1H
X-Robots-Tag:noindex
X-PUBLISHED-TTL:PT1H
BEGIN:VTIMEZONE
TZID:Europe/Brussels
BEGIN:DAYLIGHT
TZOFFSETFROM:+0100
TZOFFSETTO:+0200
TZNAME:CEST
DTSTART:20230326T010000
END:DAYLIGHT
BEGIN:STANDARD
TZOFFSETFROM:+0200
TZOFFSETTO:+0100
TZNAME:CET
DTSTART:20231029T010000
END:STANDARD
BEGIN:DAYLIGHT
TZOFFSETFROM:+0100
TZOFFSETTO:+0200
TZNAME:CEST
DTSTART:20240331T010000
END:DAYLIGHT
BEGIN:STANDARD
TZOFFSETFROM:+0200
TZOFFSETTO:+0100
TZNAME:CET
DTSTART:20241027T010000
END:STANDARD
BEGIN:DAYLIGHT
TZOFFSETFROM:+0100
TZOFFSETTO:+0200
TZNAME:CEST
DTSTART:20250330T010000
END:DAYLIGHT
BEGIN:STANDARD
TZOFFSETFROM:+0200
TZOFFSETTO:+0100
TZNAME:CET
DTSTART:20251026T010000
END:STANDARD
END:VTIMEZONE
BEGIN:VEVENT
DTSTART;TZID=Europe/Brussels:20240315T200000
DTEND;TZID=Europe/Brussels:20240315T220000
DTSTAMP:20260424T021413
CREATED:20230926T181137Z
LAST-MODIFIED:20240228T192026Z
UID:10002456-1710532800-1710540000@www.clemenspoort.be
SUMMARY:Blue and Broke
DESCRIPTION:Een BLUES en JAZZ avond met Blue and Broke. Dit is een groep van vele muziekjes. Van jazz\, over blues tot pop en rock\, alles kan passeren. \nDe groep startte méér dan twintig jaar geleden\, speelde ontelbare concerten waar mensen steeds meegenomen worden in mooie verhalen en nog fijnere sferen. Met invloeden van Tom Waits\, The Walkabouts\, Eels; The Staple Singers\, Django Rheinhardt en toch steeds een eigen herkenbare sound. \nDit komt natuurlijk ook een stuk door de herkenbare warme stem van zangeres Melissa Anthuenis\, maar ook door de songs van Pedro De Bruyckere (gitaar) en spaarzame pianoklanken van Danny Verstraete. \nDroom en stamp mee met dit akoestisch concert waarbij elke song die op plaat rijk gearrangeerd werd\, akoestisch uitgepuurd wordt tot de essentie ! \nNiet te missen voor liefhebbers van de betere songs\, Vaya Con Dios\, Nits\, Tom Waits en meer … \nMis deze unieke avond niet. Kaarten in VVK slechts 12 euro (15 euro ADD) . VRIJDAG 15 MAART om 20u in de CLEMENSPOORT. Kaarten via tom@clemenspoort.be of aan het onthaal van de Clemenspoort
URL:https://www.clemenspoort.be/evenement/blue-and-brok/
LOCATION:Clemenspoort\, Overwale 3\, Gent\, 9000\, Belgium
CATEGORIES:Cultuur,Optredens
ATTACH;FMTTYPE=image/png:https://www.clemenspoort.be/wp-content/uploads/2023/09/image004.png
ORGANIZER;CN="Clemenspoort":MAILTO:info@clemenspoort.be
END:VEVENT
END:VCALENDAR