BEGIN:VCALENDAR
VERSION:2.0
PRODID:-//Clemenspoort - ECPv6.15.18//NONSGML v1.0//EN
CALSCALE:GREGORIAN
METHOD:PUBLISH
X-ORIGINAL-URL:https://www.clemenspoort.be
X-WR-CALDESC:Evenementen voor Clemenspoort
REFRESH-INTERVAL;VALUE=DURATION:PT1H
X-Robots-Tag:noindex
X-PUBLISHED-TTL:PT1H
BEGIN:VTIMEZONE
TZID:Europe/Brussels
BEGIN:DAYLIGHT
TZOFFSETFROM:+0100
TZOFFSETTO:+0200
TZNAME:CEST
DTSTART:20230326T010000
END:DAYLIGHT
BEGIN:STANDARD
TZOFFSETFROM:+0200
TZOFFSETTO:+0100
TZNAME:CET
DTSTART:20231029T010000
END:STANDARD
BEGIN:DAYLIGHT
TZOFFSETFROM:+0100
TZOFFSETTO:+0200
TZNAME:CEST
DTSTART:20240331T010000
END:DAYLIGHT
BEGIN:STANDARD
TZOFFSETFROM:+0200
TZOFFSETTO:+0100
TZNAME:CET
DTSTART:20241027T010000
END:STANDARD
BEGIN:DAYLIGHT
TZOFFSETFROM:+0100
TZOFFSETTO:+0200
TZNAME:CEST
DTSTART:20250330T010000
END:DAYLIGHT
BEGIN:STANDARD
TZOFFSETFROM:+0200
TZOFFSETTO:+0100
TZNAME:CET
DTSTART:20251026T010000
END:STANDARD
END:VTIMEZONE
BEGIN:VEVENT
DTSTART;TZID=Europe/Brussels:20240316T200000
DTEND;TZID=Europe/Brussels:20240515T170000
DTSTAMP:20260423T073937
CREATED:20240228T192827Z
LAST-MODIFIED:20240228T210524Z
UID:10002558-1710619200-1715792400@www.clemenspoort.be
SUMMARY:Tentoonstelling Vanessa Lagaert
DESCRIPTION:Laat je onderdompelen in een atmosfeer van contemplatie en reflectie doorheen de verfijnde chaos van de abstracte kunst. Geïnspireerd door grenzeloze mogelijkheden nodigt Vanessa je uit een reis te maken naar een alternatieve werkelijkheid. Een intuïtieve kracht\, een energie\, weergegeven in vorm en kleur die het onzegbare tastbaar maakt. \nDe vernissage is zaterdag 16 maart om 20u.\nAls u de tentoonstelling wil bezoeken\, volstaat het om even te horen of het Onthaal\, waar de werken tentoongesteld zijn\, open is via info@clemenspoort.be
URL:https://www.clemenspoort.be/evenement/tentoonstelling-vanessa-lagaert/
LOCATION:Clemenspoort\, Overwale 3\, Gent\, 9000\, Belgium
CATEGORIES:Cultuur,Tentoonstellingen
ATTACH;FMTTYPE=image/png:https://www.clemenspoort.be/wp-content/uploads/2024/02/afbeelding_2024-02-28_202722899.png
ORGANIZER;CN="Clemenspoort":MAILTO:info@clemenspoort.be
END:VEVENT
BEGIN:VEVENT
DTSTART;TZID=Europe/Brussels:20240318T143000
DTEND;TZID=Europe/Brussels:20240318T160000
DTSTAMP:20260423T073937
CREATED:20231027T091814Z
LAST-MODIFIED:20240220T152631Z
UID:10002483-1710772200-1710777600@www.clemenspoort.be
SUMMARY:Zin in film: De acht bergen
DESCRIPTION:Zin in film:  De acht bergen \n\n\nElke zomer gaat Pietro met zijn familie op vakantie naar de bergen. Hij leert er Bruno kennen\, een lokale jongen\, die hem wegwijs maakt in de natuur. Een vergeten stukje Alpen is hun koninkrijk. Wanneer ze volwassen worden\, verliezen ze elkaar uit het oog. Bruno blijft in de bergen\, terwijl Pietro de wereld rond zwerft. Na vijftien jaar vinden de twee elkaar terug\, deze keer als volwassen mannen\, elk met hun eigen levensbagage. \n\n\n\n\nRegisseurs Felix Van Groeningen en Charlotte Vandermeersch slaagden glorieus in hun opzet en sleepten de Juryprijs van het filmfestival van Cannes in de wacht. Van Groeningen is niet aan zijn proefstuk toe: met De helaasheid der dingen\,The Broken Circle Breakdown en Beautiful Boy maakte hij internationaal al naam. Voor de verfilming van het gelijknamige boek van Paolo Cognetti schakelde hij zijn partner Charlotte Vandermeersch in\, oorspronkelijk voor het scenario\, nadien ook voor de regie. Een visueel prachtig eerbetoon aan echte vriendschap die een leven lang meegaat\, tegen het indrukwekkende decor van de majestueuze Alpen.
URL:https://www.clemenspoort.be/evenement/zin-in-film-de-acht-bergen/2024-03-18/1/
LOCATION:Zaal Neumann\, Overwale 3\, verdieping 2\, Gent\, 9000\, Belgium
CATEGORIES:Cultuur,Vorming
ATTACH;FMTTYPE=image/png:https://www.clemenspoort.be/wp-content/uploads/2023/10/afbeelding_2023-10-27_111657620.png
ORGANIZER;CN="Mia De Meyer":MAILTO:mia.de.meyer7@gmail.com
GEO:50.503887;4.469936
X-APPLE-STRUCTURED-LOCATION;VALUE=URI;X-ADDRESS=Zaal Neumann Overwale 3 verdieping 2 Gent 9000 Belgium;X-APPLE-RADIUS=500;X-TITLE=Overwale 3\, verdieping 2:geo:4.469936,50.503887
END:VEVENT
BEGIN:VEVENT
DTSTART;TZID=Europe/Brussels:20240318T190000
DTEND;TZID=Europe/Brussels:20240318T210000
DTSTAMP:20260423T073937
CREATED:20231027T091814Z
LAST-MODIFIED:20240220T152631Z
UID:10002520-1710788400-1710795600@www.clemenspoort.be
SUMMARY:Zin in film: De acht bergen
DESCRIPTION:Zin in film:  De acht bergen \n\n\nElke zomer gaat Pietro met zijn familie op vakantie naar de bergen. Hij leert er Bruno kennen\, een lokale jongen\, die hem wegwijs maakt in de natuur. Een vergeten stukje Alpen is hun koninkrijk. Wanneer ze volwassen worden\, verliezen ze elkaar uit het oog. Bruno blijft in de bergen\, terwijl Pietro de wereld rond zwerft. Na vijftien jaar vinden de twee elkaar terug\, deze keer als volwassen mannen\, elk met hun eigen levensbagage. \n\n\n\n\nRegisseurs Felix Van Groeningen en Charlotte Vandermeersch slaagden glorieus in hun opzet en sleepten de Juryprijs van het filmfestival van Cannes in de wacht. Van Groeningen is niet aan zijn proefstuk toe: met De helaasheid der dingen\,The Broken Circle Breakdown en Beautiful Boy maakte hij internationaal al naam. Voor de verfilming van het gelijknamige boek van Paolo Cognetti schakelde hij zijn partner Charlotte Vandermeersch in\, oorspronkelijk voor het scenario\, nadien ook voor de regie. Een visueel prachtig eerbetoon aan echte vriendschap die een leven lang meegaat\, tegen het indrukwekkende decor van de majestueuze Alpen.
URL:https://www.clemenspoort.be/evenement/zin-in-film-de-acht-bergen/2024-03-18/2/
LOCATION:Zaal Neumann\, Overwale 3\, verdieping 2\, Gent\, 9000\, Belgium
CATEGORIES:Cultuur,Vorming
ATTACH;FMTTYPE=image/png:https://www.clemenspoort.be/wp-content/uploads/2023/10/afbeelding_2023-10-27_111657620.png
ORGANIZER;CN="Mia De Meyer":MAILTO:mia.de.meyer7@gmail.com
GEO:50.503887;4.469936
X-APPLE-STRUCTURED-LOCATION;VALUE=URI;X-ADDRESS=Zaal Neumann Overwale 3 verdieping 2 Gent 9000 Belgium;X-APPLE-RADIUS=500;X-TITLE=Overwale 3\, verdieping 2:geo:4.469936,50.503887
END:VEVENT
END:VCALENDAR