BEGIN:VCALENDAR
VERSION:2.0
PRODID:-//Clemenspoort - ECPv6.15.18//NONSGML v1.0//EN
CALSCALE:GREGORIAN
METHOD:PUBLISH
X-WR-CALNAME:Clemenspoort
X-ORIGINAL-URL:https://www.clemenspoort.be
X-WR-CALDESC:Evenementen voor Clemenspoort
REFRESH-INTERVAL;VALUE=DURATION:PT1H
X-Robots-Tag:noindex
X-PUBLISHED-TTL:PT1H
BEGIN:VTIMEZONE
TZID:Europe/Brussels
BEGIN:DAYLIGHT
TZOFFSETFROM:+0100
TZOFFSETTO:+0200
TZNAME:CEST
DTSTART:20230326T010000
END:DAYLIGHT
BEGIN:STANDARD
TZOFFSETFROM:+0200
TZOFFSETTO:+0100
TZNAME:CET
DTSTART:20231029T010000
END:STANDARD
BEGIN:DAYLIGHT
TZOFFSETFROM:+0100
TZOFFSETTO:+0200
TZNAME:CEST
DTSTART:20240331T010000
END:DAYLIGHT
BEGIN:STANDARD
TZOFFSETFROM:+0200
TZOFFSETTO:+0100
TZNAME:CET
DTSTART:20241027T010000
END:STANDARD
BEGIN:DAYLIGHT
TZOFFSETFROM:+0100
TZOFFSETTO:+0200
TZNAME:CEST
DTSTART:20250330T010000
END:DAYLIGHT
BEGIN:STANDARD
TZOFFSETFROM:+0200
TZOFFSETTO:+0100
TZNAME:CET
DTSTART:20251026T010000
END:STANDARD
END:VTIMEZONE
BEGIN:VEVENT
DTSTART;TZID=Europe/Brussels:20241117T103000
DTEND;TZID=Europe/Brussels:20241117T140000
DTSTAMP:20260422T021729
CREATED:20241104T223544Z
LAST-MODIFIED:20241104T224131Z
UID:10003197-1731839400-1731852000@www.clemenspoort.be
SUMMARY:Pancakes and Praise
DESCRIPTION:‘PANCAKES & PRAISE’ TEN VOORDELE VAN “CROSS THAT BRIDGE”\nDe muziekband ‘Cross that Bridge’ wil Vlaanderen vertrouwd maken met lofprijzing en jonge talenten inspireren en kansen geven. \nOp zondag 17 november nodigen ze uit voor pannenkoeken à volonté na de zondagsviering. \nKlik hier voor inschrijving en info
URL:https://www.clemenspoort.be/evenement/pancakes-and-praise-2/
LOCATION:Clemenspoort\, Overwale 3\, Gent\, 9000\, Belgium
CATEGORIES:Cultuur,Gebed - Viering,Optredens
ATTACH;FMTTYPE=image/png:https://www.clemenspoort.be/wp-content/uploads/2024/11/afbeelding_2024-11-04_234108440.png
END:VEVENT
END:VCALENDAR