BEGIN:VCALENDAR
VERSION:2.0
PRODID:-//Clemenspoort - ECPv6.15.18//NONSGML v1.0//EN
CALSCALE:GREGORIAN
METHOD:PUBLISH
X-WR-CALNAME:Clemenspoort
X-ORIGINAL-URL:https://www.clemenspoort.be
X-WR-CALDESC:Evenementen voor Clemenspoort
REFRESH-INTERVAL;VALUE=DURATION:PT1H
X-Robots-Tag:noindex
X-PUBLISHED-TTL:PT1H
BEGIN:VTIMEZONE
TZID:Europe/Brussels
BEGIN:DAYLIGHT
TZOFFSETFROM:+0100
TZOFFSETTO:+0200
TZNAME:CEST
DTSTART:20210328T010000
END:DAYLIGHT
BEGIN:STANDARD
TZOFFSETFROM:+0200
TZOFFSETTO:+0100
TZNAME:CET
DTSTART:20211031T010000
END:STANDARD
BEGIN:DAYLIGHT
TZOFFSETFROM:+0100
TZOFFSETTO:+0200
TZNAME:CEST
DTSTART:20220327T010000
END:DAYLIGHT
BEGIN:STANDARD
TZOFFSETFROM:+0200
TZOFFSETTO:+0100
TZNAME:CET
DTSTART:20221030T010000
END:STANDARD
BEGIN:DAYLIGHT
TZOFFSETFROM:+0100
TZOFFSETTO:+0200
TZNAME:CEST
DTSTART:20230326T010000
END:DAYLIGHT
BEGIN:STANDARD
TZOFFSETFROM:+0200
TZOFFSETTO:+0100
TZNAME:CET
DTSTART:20231029T010000
END:STANDARD
END:VTIMEZONE
BEGIN:VEVENT
DTSTART;TZID=Europe/Brussels:20220920T190000
DTEND;TZID=Europe/Brussels:20220920T190000
DTSTAMP:20260420T044842
CREATED:20220624T101806Z
LAST-MODIFIED:20220624T111413Z
UID:10000896-1663700400-1663700400@www.clemenspoort.be
SUMMARY:Zin in film: Mr. Bachmann and His Class
DESCRIPTION:Zijn leerlingen zijn tussen twaalf en veertien jaar\, ze komen samen uit meer dan twaalf landen\, sommigen spreken amper Duits. Ze hangen de meest uiteenlopende religies aan. Of geen enkele. Ze hebben meer met elkaar gemeen dan ze op het eerste gezicht zelf geloven. Het zijn de tieners die Dieter Bachmann in zijn klas heeft in Stadtallendorf\, een fabriekstadje van zo’n twintigduizend inwoners in het Duitse binnenland. Hij heeft niet alleen de taak om deze jongeren de nodige dosis wiskunde\, taal en wetenschap aan te leren\, hij moet ze ook klaarstomen voor de volgende graad en bij uitbreiding\, het leven. Dat doet hij met veel geduld\, fantasie\, muziek en vooral: liefde voor het vak. \nEen intieme\, hoopgevende en ronduit inspirerende inkijk in hoe bijzonder lesgeven kan zijn. Ondanks de duurtijd van drieënhalf uur verveelt deze winnaar van de Zilveren Beer in Berlijn geen seconde. \nDe bijdrage is 5 euro\, ter plaatse te betalen.
URL:https://www.clemenspoort.be/evenement/zin-in-film-mr-bachmann-and-his-class/
LOCATION:Zaal Neumann\, Overwale 3\, verdieping 2\, Gent\, 9000\, Belgium
CATEGORIES:Vorming
ATTACH;FMTTYPE=image/jpeg:https://www.clemenspoort.be/wp-content/uploads/2022/06/film-projector-movie-projector-scaled.jpg
ORGANIZER;CN="Mia De Meyer":MAILTO:mia.de.meyer7@gmail.com
GEO:50.503887;4.469936
X-APPLE-STRUCTURED-LOCATION;VALUE=URI;X-ADDRESS=Zaal Neumann Overwale 3 verdieping 2 Gent 9000 Belgium;X-APPLE-RADIUS=500;X-TITLE=Overwale 3\, verdieping 2:geo:4.469936,50.503887
END:VEVENT
BEGIN:VEVENT
DTSTART;TZID=Europe/Brussels:20220917T183000
DTEND;TZID=Europe/Brussels:20220917T183000
DTSTAMP:20260420T044842
CREATED:20220627T201758Z
LAST-MODIFIED:20240313T164935Z
UID:10001383-1663439400-1663439400@www.clemenspoort.be
SUMMARY:Effataviering
DESCRIPTION:Het sleutelmoment van de Effatagemeenschap is de wekelijkse viering op zaterdagavond om 18.30 uur in de Parel van de Clemenspoort.\nDeze viering heeft een eigen\, wel overwogen opbouw. De gemeenschap is de drager van het liturgisch gebeuren.\nWe breken en delen brood en wijn in de hoop dat er een nieuwe wereld komen zal\, waar brood\, recht\, waardigheid en liefde is voor al wat leeft. \nWe volgen de evangelielezingen van het liturgisch jaar en proberen het schriftwoord te verbinden met ons dagelijks leven.\nDe sterke tijden zoals advent en vasten krijgen bijzondere aandacht.\nDe samenzang is een dragend gegeven van elke viering.\nHoewel Effata over een enthousiast koor beschikt\, treedt het koor eerder uitzonderlijk op in de vieringen.\nDe koorleden nemen gewoon deel aan de vieringen waardoor iedereen wordt aangemoedigd om mee te zingen.\nDe liturgiegroep zorgt voor goed voorbereide vieringen waarin zowel priesters als leken mee drager zijn.\nDe vieringen zijn warm\, hartelijk en uitnodigend. \nEven belangrijk is ook de gewoonte om na elke viering elkaar te ontmoeten bij een gratis kop koffie of iets anders\nen zo het gemeenschapsleven met elkaar te verdiepen. \nLees meer op de website van Effata.
URL:https://www.clemenspoort.be/evenement/effataviering/2022-09-17/
LOCATION:De Parel\, Overwale 3\, verdieping 0\, Gent\, 9000\, Belgium
CATEGORIES:Vieringen
ATTACH;FMTTYPE=image/jpeg:https://www.clemenspoort.be/wp-content/uploads/2022/05/VieringinParel.jpg
ORGANIZER;CN="Effata":MAILTO:info@effata.be
GEO:51.0337057;3.7065407
X-APPLE-STRUCTURED-LOCATION;VALUE=URI;X-ADDRESS=De Parel Overwale 3 verdieping 0 Gent 9000 Belgium;X-APPLE-RADIUS=500;X-TITLE=Overwale 3\, verdieping 0:geo:3.7065407,51.0337057
END:VEVENT
BEGIN:VEVENT
DTSTART;TZID=Europe/Brussels:20220910T183000
DTEND;TZID=Europe/Brussels:20220910T183000
DTSTAMP:20260420T044842
CREATED:20220627T201758Z
LAST-MODIFIED:20240313T164935Z
UID:10001382-1662834600-1662834600@www.clemenspoort.be
SUMMARY:Effataviering
DESCRIPTION:Het sleutelmoment van de Effatagemeenschap is de wekelijkse viering op zaterdagavond om 18.30 uur in de Parel van de Clemenspoort.\nDeze viering heeft een eigen\, wel overwogen opbouw. De gemeenschap is de drager van het liturgisch gebeuren.\nWe breken en delen brood en wijn in de hoop dat er een nieuwe wereld komen zal\, waar brood\, recht\, waardigheid en liefde is voor al wat leeft. \nWe volgen de evangelielezingen van het liturgisch jaar en proberen het schriftwoord te verbinden met ons dagelijks leven.\nDe sterke tijden zoals advent en vasten krijgen bijzondere aandacht.\nDe samenzang is een dragend gegeven van elke viering.\nHoewel Effata over een enthousiast koor beschikt\, treedt het koor eerder uitzonderlijk op in de vieringen.\nDe koorleden nemen gewoon deel aan de vieringen waardoor iedereen wordt aangemoedigd om mee te zingen.\nDe liturgiegroep zorgt voor goed voorbereide vieringen waarin zowel priesters als leken mee drager zijn.\nDe vieringen zijn warm\, hartelijk en uitnodigend. \nEven belangrijk is ook de gewoonte om na elke viering elkaar te ontmoeten bij een gratis kop koffie of iets anders\nen zo het gemeenschapsleven met elkaar te verdiepen. \nLees meer op de website van Effata.
URL:https://www.clemenspoort.be/evenement/effataviering/2022-09-10/
LOCATION:De Parel\, Overwale 3\, verdieping 0\, Gent\, 9000\, Belgium
CATEGORIES:Vieringen
ATTACH;FMTTYPE=image/jpeg:https://www.clemenspoort.be/wp-content/uploads/2022/05/VieringinParel.jpg
ORGANIZER;CN="Effata":MAILTO:info@effata.be
GEO:51.0337057;3.7065407
X-APPLE-STRUCTURED-LOCATION;VALUE=URI;X-ADDRESS=De Parel Overwale 3 verdieping 0 Gent 9000 Belgium;X-APPLE-RADIUS=500;X-TITLE=Overwale 3\, verdieping 0:geo:3.7065407,51.0337057
END:VEVENT
BEGIN:VEVENT
DTSTART;TZID=Europe/Brussels:20220903T183000
DTEND;TZID=Europe/Brussels:20220903T183000
DTSTAMP:20260420T044842
CREATED:20220627T201758Z
LAST-MODIFIED:20240313T164935Z
UID:10001381-1662229800-1662229800@www.clemenspoort.be
SUMMARY:Effataviering
DESCRIPTION:Het sleutelmoment van de Effatagemeenschap is de wekelijkse viering op zaterdagavond om 18.30 uur in de Parel van de Clemenspoort.\nDeze viering heeft een eigen\, wel overwogen opbouw. De gemeenschap is de drager van het liturgisch gebeuren.\nWe breken en delen brood en wijn in de hoop dat er een nieuwe wereld komen zal\, waar brood\, recht\, waardigheid en liefde is voor al wat leeft. \nWe volgen de evangelielezingen van het liturgisch jaar en proberen het schriftwoord te verbinden met ons dagelijks leven.\nDe sterke tijden zoals advent en vasten krijgen bijzondere aandacht.\nDe samenzang is een dragend gegeven van elke viering.\nHoewel Effata over een enthousiast koor beschikt\, treedt het koor eerder uitzonderlijk op in de vieringen.\nDe koorleden nemen gewoon deel aan de vieringen waardoor iedereen wordt aangemoedigd om mee te zingen.\nDe liturgiegroep zorgt voor goed voorbereide vieringen waarin zowel priesters als leken mee drager zijn.\nDe vieringen zijn warm\, hartelijk en uitnodigend. \nEven belangrijk is ook de gewoonte om na elke viering elkaar te ontmoeten bij een gratis kop koffie of iets anders\nen zo het gemeenschapsleven met elkaar te verdiepen. \nLees meer op de website van Effata.
URL:https://www.clemenspoort.be/evenement/effataviering/2022-09-03/
LOCATION:De Parel\, Overwale 3\, verdieping 0\, Gent\, 9000\, Belgium
CATEGORIES:Vieringen
ATTACH;FMTTYPE=image/jpeg:https://www.clemenspoort.be/wp-content/uploads/2022/05/VieringinParel.jpg
ORGANIZER;CN="Effata":MAILTO:info@effata.be
GEO:51.0337057;3.7065407
X-APPLE-STRUCTURED-LOCATION;VALUE=URI;X-ADDRESS=De Parel Overwale 3 verdieping 0 Gent 9000 Belgium;X-APPLE-RADIUS=500;X-TITLE=Overwale 3\, verdieping 0:geo:3.7065407,51.0337057
END:VEVENT
BEGIN:VEVENT
DTSTART;TZID=Europe/Brussels:20220827T183000
DTEND;TZID=Europe/Brussels:20220827T183000
DTSTAMP:20260420T044842
CREATED:20220627T201758Z
LAST-MODIFIED:20240313T164935Z
UID:10001380-1661625000-1661625000@www.clemenspoort.be
SUMMARY:Effataviering
DESCRIPTION:Het sleutelmoment van de Effatagemeenschap is de wekelijkse viering op zaterdagavond om 18.30 uur in de Parel van de Clemenspoort.\nDeze viering heeft een eigen\, wel overwogen opbouw. De gemeenschap is de drager van het liturgisch gebeuren.\nWe breken en delen brood en wijn in de hoop dat er een nieuwe wereld komen zal\, waar brood\, recht\, waardigheid en liefde is voor al wat leeft. \nWe volgen de evangelielezingen van het liturgisch jaar en proberen het schriftwoord te verbinden met ons dagelijks leven.\nDe sterke tijden zoals advent en vasten krijgen bijzondere aandacht.\nDe samenzang is een dragend gegeven van elke viering.\nHoewel Effata over een enthousiast koor beschikt\, treedt het koor eerder uitzonderlijk op in de vieringen.\nDe koorleden nemen gewoon deel aan de vieringen waardoor iedereen wordt aangemoedigd om mee te zingen.\nDe liturgiegroep zorgt voor goed voorbereide vieringen waarin zowel priesters als leken mee drager zijn.\nDe vieringen zijn warm\, hartelijk en uitnodigend. \nEven belangrijk is ook de gewoonte om na elke viering elkaar te ontmoeten bij een gratis kop koffie of iets anders\nen zo het gemeenschapsleven met elkaar te verdiepen. \nLees meer op de website van Effata.
URL:https://www.clemenspoort.be/evenement/effataviering/2022-08-27/
LOCATION:De Parel\, Overwale 3\, verdieping 0\, Gent\, 9000\, Belgium
CATEGORIES:Vieringen
ATTACH;FMTTYPE=image/jpeg:https://www.clemenspoort.be/wp-content/uploads/2022/05/VieringinParel.jpg
ORGANIZER;CN="Effata":MAILTO:info@effata.be
GEO:51.0337057;3.7065407
X-APPLE-STRUCTURED-LOCATION;VALUE=URI;X-ADDRESS=De Parel Overwale 3 verdieping 0 Gent 9000 Belgium;X-APPLE-RADIUS=500;X-TITLE=Overwale 3\, verdieping 0:geo:3.7065407,51.0337057
END:VEVENT
BEGIN:VEVENT
DTSTART;TZID=Europe/Brussels:20220820T183000
DTEND;TZID=Europe/Brussels:20220820T183000
DTSTAMP:20260420T044842
CREATED:20220627T201758Z
LAST-MODIFIED:20240313T164935Z
UID:10001379-1661020200-1661020200@www.clemenspoort.be
SUMMARY:Effataviering
DESCRIPTION:Het sleutelmoment van de Effatagemeenschap is de wekelijkse viering op zaterdagavond om 18.30 uur in de Parel van de Clemenspoort.\nDeze viering heeft een eigen\, wel overwogen opbouw. De gemeenschap is de drager van het liturgisch gebeuren.\nWe breken en delen brood en wijn in de hoop dat er een nieuwe wereld komen zal\, waar brood\, recht\, waardigheid en liefde is voor al wat leeft. \nWe volgen de evangelielezingen van het liturgisch jaar en proberen het schriftwoord te verbinden met ons dagelijks leven.\nDe sterke tijden zoals advent en vasten krijgen bijzondere aandacht.\nDe samenzang is een dragend gegeven van elke viering.\nHoewel Effata over een enthousiast koor beschikt\, treedt het koor eerder uitzonderlijk op in de vieringen.\nDe koorleden nemen gewoon deel aan de vieringen waardoor iedereen wordt aangemoedigd om mee te zingen.\nDe liturgiegroep zorgt voor goed voorbereide vieringen waarin zowel priesters als leken mee drager zijn.\nDe vieringen zijn warm\, hartelijk en uitnodigend. \nEven belangrijk is ook de gewoonte om na elke viering elkaar te ontmoeten bij een gratis kop koffie of iets anders\nen zo het gemeenschapsleven met elkaar te verdiepen. \nLees meer op de website van Effata.
URL:https://www.clemenspoort.be/evenement/effataviering/2022-08-20/
LOCATION:De Parel\, Overwale 3\, verdieping 0\, Gent\, 9000\, Belgium
CATEGORIES:Vieringen
ATTACH;FMTTYPE=image/jpeg:https://www.clemenspoort.be/wp-content/uploads/2022/05/VieringinParel.jpg
ORGANIZER;CN="Effata":MAILTO:info@effata.be
GEO:51.0337057;3.7065407
X-APPLE-STRUCTURED-LOCATION;VALUE=URI;X-ADDRESS=De Parel Overwale 3 verdieping 0 Gent 9000 Belgium;X-APPLE-RADIUS=500;X-TITLE=Overwale 3\, verdieping 0:geo:3.7065407,51.0337057
END:VEVENT
BEGIN:VEVENT
DTSTART;TZID=Europe/Brussels:20220813T183000
DTEND;TZID=Europe/Brussels:20220813T183000
DTSTAMP:20260420T044842
CREATED:20220627T201758Z
LAST-MODIFIED:20240313T164935Z
UID:10001378-1660415400-1660415400@www.clemenspoort.be
SUMMARY:Effataviering
DESCRIPTION:Het sleutelmoment van de Effatagemeenschap is de wekelijkse viering op zaterdagavond om 18.30 uur in de Parel van de Clemenspoort.\nDeze viering heeft een eigen\, wel overwogen opbouw. De gemeenschap is de drager van het liturgisch gebeuren.\nWe breken en delen brood en wijn in de hoop dat er een nieuwe wereld komen zal\, waar brood\, recht\, waardigheid en liefde is voor al wat leeft. \nWe volgen de evangelielezingen van het liturgisch jaar en proberen het schriftwoord te verbinden met ons dagelijks leven.\nDe sterke tijden zoals advent en vasten krijgen bijzondere aandacht.\nDe samenzang is een dragend gegeven van elke viering.\nHoewel Effata over een enthousiast koor beschikt\, treedt het koor eerder uitzonderlijk op in de vieringen.\nDe koorleden nemen gewoon deel aan de vieringen waardoor iedereen wordt aangemoedigd om mee te zingen.\nDe liturgiegroep zorgt voor goed voorbereide vieringen waarin zowel priesters als leken mee drager zijn.\nDe vieringen zijn warm\, hartelijk en uitnodigend. \nEven belangrijk is ook de gewoonte om na elke viering elkaar te ontmoeten bij een gratis kop koffie of iets anders\nen zo het gemeenschapsleven met elkaar te verdiepen. \nLees meer op de website van Effata.
URL:https://www.clemenspoort.be/evenement/effataviering/2022-08-13/
LOCATION:De Parel\, Overwale 3\, verdieping 0\, Gent\, 9000\, Belgium
CATEGORIES:Vieringen
ATTACH;FMTTYPE=image/jpeg:https://www.clemenspoort.be/wp-content/uploads/2022/05/VieringinParel.jpg
ORGANIZER;CN="Effata":MAILTO:info@effata.be
GEO:51.0337057;3.7065407
X-APPLE-STRUCTURED-LOCATION;VALUE=URI;X-ADDRESS=De Parel Overwale 3 verdieping 0 Gent 9000 Belgium;X-APPLE-RADIUS=500;X-TITLE=Overwale 3\, verdieping 0:geo:3.7065407,51.0337057
END:VEVENT
BEGIN:VEVENT
DTSTART;TZID=Europe/Brussels:20220806T183000
DTEND;TZID=Europe/Brussels:20220806T183000
DTSTAMP:20260420T044842
CREATED:20220627T201758Z
LAST-MODIFIED:20240313T164935Z
UID:10001377-1659810600-1659810600@www.clemenspoort.be
SUMMARY:Effataviering
DESCRIPTION:Het sleutelmoment van de Effatagemeenschap is de wekelijkse viering op zaterdagavond om 18.30 uur in de Parel van de Clemenspoort.\nDeze viering heeft een eigen\, wel overwogen opbouw. De gemeenschap is de drager van het liturgisch gebeuren.\nWe breken en delen brood en wijn in de hoop dat er een nieuwe wereld komen zal\, waar brood\, recht\, waardigheid en liefde is voor al wat leeft. \nWe volgen de evangelielezingen van het liturgisch jaar en proberen het schriftwoord te verbinden met ons dagelijks leven.\nDe sterke tijden zoals advent en vasten krijgen bijzondere aandacht.\nDe samenzang is een dragend gegeven van elke viering.\nHoewel Effata over een enthousiast koor beschikt\, treedt het koor eerder uitzonderlijk op in de vieringen.\nDe koorleden nemen gewoon deel aan de vieringen waardoor iedereen wordt aangemoedigd om mee te zingen.\nDe liturgiegroep zorgt voor goed voorbereide vieringen waarin zowel priesters als leken mee drager zijn.\nDe vieringen zijn warm\, hartelijk en uitnodigend. \nEven belangrijk is ook de gewoonte om na elke viering elkaar te ontmoeten bij een gratis kop koffie of iets anders\nen zo het gemeenschapsleven met elkaar te verdiepen. \nLees meer op de website van Effata.
URL:https://www.clemenspoort.be/evenement/effataviering/2022-08-06/
LOCATION:De Parel\, Overwale 3\, verdieping 0\, Gent\, 9000\, Belgium
CATEGORIES:Vieringen
ATTACH;FMTTYPE=image/jpeg:https://www.clemenspoort.be/wp-content/uploads/2022/05/VieringinParel.jpg
ORGANIZER;CN="Effata":MAILTO:info@effata.be
GEO:51.0337057;3.7065407
X-APPLE-STRUCTURED-LOCATION;VALUE=URI;X-ADDRESS=De Parel Overwale 3 verdieping 0 Gent 9000 Belgium;X-APPLE-RADIUS=500;X-TITLE=Overwale 3\, verdieping 0:geo:3.7065407,51.0337057
END:VEVENT
END:VCALENDAR